BEGIN:VCALENDAR
VERSION:2.0
PRODID:-//TV Eintracht Algermissen - ECPv6.15.13//NONSGML v1.0//EN
CALSCALE:GREGORIAN
METHOD:PUBLISH
X-ORIGINAL-URL:https://tve-algermissen.de
X-WR-CALDESC:Veranstaltungen für TV Eintracht Algermissen
REFRESH-INTERVAL;VALUE=DURATION:PT1H
X-Robots-Tag:noindex
X-PUBLISHED-TTL:PT1H
BEGIN:VTIMEZONE
TZID:Europe/Berlin
BEGIN:DAYLIGHT
TZOFFSETFROM:+0100
TZOFFSETTO:+0200
TZNAME:CEST
DTSTART:20190331T010000
END:DAYLIGHT
BEGIN:STANDARD
TZOFFSETFROM:+0200
TZOFFSETTO:+0100
TZNAME:CET
DTSTART:20191027T010000
END:STANDARD
BEGIN:DAYLIGHT
TZOFFSETFROM:+0100
TZOFFSETTO:+0200
TZNAME:CEST
DTSTART:20200329T010000
END:DAYLIGHT
BEGIN:STANDARD
TZOFFSETFROM:+0200
TZOFFSETTO:+0100
TZNAME:CET
DTSTART:20201025T010000
END:STANDARD
BEGIN:DAYLIGHT
TZOFFSETFROM:+0100
TZOFFSETTO:+0200
TZNAME:CEST
DTSTART:20210328T010000
END:DAYLIGHT
BEGIN:STANDARD
TZOFFSETFROM:+0200
TZOFFSETTO:+0100
TZNAME:CET
DTSTART:20211031T010000
END:STANDARD
END:VTIMEZONE
BEGIN:VEVENT
DTSTART;VALUE=DATE:20200906
DTEND;VALUE=DATE:20200927
DTSTAMP:20260423T011204
CREATED:20200202T154623Z
LAST-MODIFIED:20200617T161649Z
UID:12598-1599350400-1601164799@tve-algermissen.de
SUMMARY:Stadtradeln
DESCRIPTION:
URL:https://tve-algermissen.de/event/stadtradeln/
END:VEVENT
BEGIN:VEVENT
DTSTART;TZID=Europe/Berlin:20200913T100000
DTEND;TZID=Europe/Berlin:20200913T100000
DTSTAMP:20260423T011204
CREATED:20200905T103032Z
LAST-MODIFIED:20200905T103032Z
UID:13356-1599991200-1599991200@tve-algermissen.de
SUMMARY:Gemeinsames Radeln
DESCRIPTION:
URL:https://tve-algermissen.de/event/gemeinsames-radeln-3/
END:VEVENT
END:VCALENDAR