BEGIN:VCALENDAR
VERSION:2.0
PRODID:-//TV Eintracht Algermissen - ECPv6.15.13//NONSGML v1.0//EN
CALSCALE:GREGORIAN
METHOD:PUBLISH
X-ORIGINAL-URL:https://tve-algermissen.de
X-WR-CALDESC:Veranstaltungen für TV Eintracht Algermissen
REFRESH-INTERVAL;VALUE=DURATION:PT1H
X-Robots-Tag:noindex
X-PUBLISHED-TTL:PT1H
BEGIN:VTIMEZONE
TZID:Europe/Berlin
BEGIN:DAYLIGHT
TZOFFSETFROM:+0100
TZOFFSETTO:+0200
TZNAME:CEST
DTSTART:20210328T010000
END:DAYLIGHT
BEGIN:STANDARD
TZOFFSETFROM:+0200
TZOFFSETTO:+0100
TZNAME:CET
DTSTART:20211031T010000
END:STANDARD
BEGIN:DAYLIGHT
TZOFFSETFROM:+0100
TZOFFSETTO:+0200
TZNAME:CEST
DTSTART:20220327T010000
END:DAYLIGHT
BEGIN:STANDARD
TZOFFSETFROM:+0200
TZOFFSETTO:+0100
TZNAME:CET
DTSTART:20221030T010000
END:STANDARD
BEGIN:DAYLIGHT
TZOFFSETFROM:+0100
TZOFFSETTO:+0200
TZNAME:CEST
DTSTART:20230326T010000
END:DAYLIGHT
BEGIN:STANDARD
TZOFFSETFROM:+0200
TZOFFSETTO:+0100
TZNAME:CET
DTSTART:20231029T010000
END:STANDARD
END:VTIMEZONE
BEGIN:VEVENT
DTSTART;TZID=Europe/Berlin:20220422T163000
DTEND;TZID=Europe/Berlin:20220422T163000
DTSTAMP:20260421T214426
CREATED:20220418T194418Z
LAST-MODIFIED:20220418T194418Z
UID:14980-1650645000-1650645000@tve-algermissen.de
SUMMARY:Abteilungsversammlung Wandern
DESCRIPTION:
URL:https://tve-algermissen.de/event/abteilungsversammlung-wandern-4/
END:VEVENT
BEGIN:VEVENT
DTSTART;TZID=Europe/Berlin:20220422T193000
DTEND;TZID=Europe/Berlin:20220422T193000
DTSTAMP:20260421T214426
CREATED:20220418T194526Z
LAST-MODIFIED:20220418T194526Z
UID:14983-1650655800-1650655800@tve-algermissen.de
SUMMARY:Abteilungsversammlung Tennis
DESCRIPTION:
URL:https://tve-algermissen.de/event/abteilungsversammlung-tennis-2/
END:VEVENT
END:VCALENDAR