BEGIN:VCALENDAR
VERSION:2.0
PRODID:-//TV Eintracht Algermissen - ECPv6.15.13//NONSGML v1.0//EN
CALSCALE:GREGORIAN
METHOD:PUBLISH
X-ORIGINAL-URL:https://tve-algermissen.de
X-WR-CALDESC:Veranstaltungen für TV Eintracht Algermissen
REFRESH-INTERVAL;VALUE=DURATION:PT1H
X-Robots-Tag:noindex
X-PUBLISHED-TTL:PT1H
BEGIN:VTIMEZONE
TZID:Europe/Berlin
BEGIN:DAYLIGHT
TZOFFSETFROM:+0100
TZOFFSETTO:+0200
TZNAME:CEST
DTSTART:20190331T010000
END:DAYLIGHT
BEGIN:STANDARD
TZOFFSETFROM:+0200
TZOFFSETTO:+0100
TZNAME:CET
DTSTART:20191027T010000
END:STANDARD
BEGIN:DAYLIGHT
TZOFFSETFROM:+0100
TZOFFSETTO:+0200
TZNAME:CEST
DTSTART:20200329T010000
END:DAYLIGHT
BEGIN:STANDARD
TZOFFSETFROM:+0200
TZOFFSETTO:+0100
TZNAME:CET
DTSTART:20201025T010000
END:STANDARD
BEGIN:DAYLIGHT
TZOFFSETFROM:+0100
TZOFFSETTO:+0200
TZNAME:CEST
DTSTART:20210328T010000
END:DAYLIGHT
BEGIN:STANDARD
TZOFFSETFROM:+0200
TZOFFSETTO:+0100
TZNAME:CET
DTSTART:20211031T010000
END:STANDARD
END:VTIMEZONE
BEGIN:VEVENT
DTSTART;TZID=Europe/Berlin:20200115T183000
DTEND;TZID=Europe/Berlin:20200115T183000
DTSTAMP:20260423T101104
CREATED:20190929T183753Z
LAST-MODIFIED:20190929T183753Z
UID:12097-1579113000-1579113000@tve-algermissen.de
SUMMARY:Abteilungsversammlung Lauftreff
DESCRIPTION:
URL:https://tve-algermissen.de/event/abteilungsversammlung-lauftreff-2/
END:VEVENT
BEGIN:VEVENT
DTSTART;TZID=Europe/Berlin:20200117T190000
DTEND;TZID=Europe/Berlin:20200117T190000
DTSTAMP:20260423T101104
CREATED:20200112T132004Z
LAST-MODIFIED:20200112T132004Z
UID:12470-1579287600-1579287600@tve-algermissen.de
SUMMARY:Abteilungsversammlung BLO
DESCRIPTION:
URL:https://tve-algermissen.de/event/abteilungsversammlung-blo/
END:VEVENT
BEGIN:VEVENT
DTSTART;TZID=Europe/Berlin:20200129T160000
DTEND;TZID=Europe/Berlin:20200129T160000
DTSTAMP:20260423T101104
CREATED:20200119T174114Z
LAST-MODIFIED:20200119T174114Z
UID:12490-1580313600-1580313600@tve-algermissen.de
SUMMARY:Abteilungsversammlung Wandern
DESCRIPTION:
URL:https://tve-algermissen.de/event/abteilungsversammlung-wandern-3/
END:VEVENT
BEGIN:VEVENT
DTSTART;TZID=Europe/Berlin:20200131T190000
DTEND;TZID=Europe/Berlin:20200131T190000
DTSTAMP:20260423T101104
CREATED:20200119T174323Z
LAST-MODIFIED:20200119T174323Z
UID:12493-1580497200-1580497200@tve-algermissen.de
SUMMARY:Abteilungsversammlung Faustball
DESCRIPTION:
URL:https://tve-algermissen.de/event/abteilungsversammlung-faustball-2/
END:VEVENT
END:VCALENDAR