BEGIN:VCALENDAR
VERSION:2.0
PRODID:-//TV Eintracht Algermissen - ECPv6.15.13//NONSGML v1.0//EN
CALSCALE:GREGORIAN
METHOD:PUBLISH
X-WR-CALNAME:TV Eintracht Algermissen
X-ORIGINAL-URL:https://tve-algermissen.de
X-WR-CALDESC:Veranstaltungen für TV Eintracht Algermissen
REFRESH-INTERVAL;VALUE=DURATION:PT1H
X-Robots-Tag:noindex
X-PUBLISHED-TTL:PT1H
BEGIN:VTIMEZONE
TZID:Europe/Berlin
BEGIN:DAYLIGHT
TZOFFSETFROM:+0100
TZOFFSETTO:+0200
TZNAME:CEST
DTSTART:20200329T010000
END:DAYLIGHT
BEGIN:STANDARD
TZOFFSETFROM:+0200
TZOFFSETTO:+0100
TZNAME:CET
DTSTART:20201025T010000
END:STANDARD
BEGIN:DAYLIGHT
TZOFFSETFROM:+0100
TZOFFSETTO:+0200
TZNAME:CEST
DTSTART:20210328T010000
END:DAYLIGHT
BEGIN:STANDARD
TZOFFSETFROM:+0200
TZOFFSETTO:+0100
TZNAME:CET
DTSTART:20211031T010000
END:STANDARD
BEGIN:DAYLIGHT
TZOFFSETFROM:+0100
TZOFFSETTO:+0200
TZNAME:CEST
DTSTART:20220327T010000
END:DAYLIGHT
BEGIN:STANDARD
TZOFFSETFROM:+0200
TZOFFSETTO:+0100
TZNAME:CET
DTSTART:20221030T010000
END:STANDARD
END:VTIMEZONE
BEGIN:VEVENT
DTSTART;VALUE=DATE:20210722
DTEND;VALUE=DATE:20210902
DTSTAMP:20260422T062738
CREATED:20210724T113857Z
LAST-MODIFIED:20210724T113857Z
UID:14265-1626912000-1630540799@tve-algermissen.de
SUMMARY:Sommerferien
DESCRIPTION:
URL:https://tve-algermissen.de/event/sommerferien/
END:VEVENT
BEGIN:VEVENT
DTSTART;TZID=Europe/Berlin:20210904T000000
DTEND;TZID=Europe/Berlin:20210904T000000
DTSTAMP:20260422T062738
CREATED:20210724T113756Z
LAST-MODIFIED:20210724T113756Z
UID:14262-1630713600-1630713600@tve-algermissen.de
SUMMARY:Saisonauftakt Handball
DESCRIPTION:
URL:https://tve-algermissen.de/event/saisonauftakt-handball/
END:VEVENT
BEGIN:VEVENT
DTSTART;VALUE=DATE:20210918
DTEND;VALUE=DATE:20210919
DTSTAMP:20260422T062738
CREATED:20210805T162547Z
LAST-MODIFIED:20210805T162601Z
UID:14318-1631923200-1632009599@tve-algermissen.de
SUMMARY:6. Erlebnissporttag
DESCRIPTION:Nähere Infos findet Ihr unter Fortbildungen 2021
URL:https://tve-algermissen.de/event/6-erlebnissport/
END:VEVENT
BEGIN:VEVENT
DTSTART;VALUE=DATE:20210919
DTEND;VALUE=DATE:20210920
DTSTAMP:20260422T062738
CREATED:20210805T162712Z
LAST-MODIFIED:20210805T162712Z
UID:14322-1632009600-1632095999@tve-algermissen.de
SUMMARY:8. Frauensporttag
DESCRIPTION:
URL:https://tve-algermissen.de/event/8-frauensporttag/
END:VEVENT
BEGIN:VEVENT
DTSTART;VALUE=DATE:20210929
DTEND;VALUE=DATE:20210930
DTSTAMP:20260422T062738
CREATED:20210805T142233Z
LAST-MODIFIED:20210805T142233Z
UID:14290-1632873600-1632959999@tve-algermissen.de
SUMMARY:Sportabzeichenlehrgang
DESCRIPTION:
URL:https://tve-algermissen.de/event/sportabzeichenlehrgang/
END:VEVENT
END:VCALENDAR