BEGIN:VCALENDAR
VERSION:2.0
PRODID:-//TV Eintracht Algermissen - ECPv6.15.13//NONSGML v1.0//EN
CALSCALE:GREGORIAN
METHOD:PUBLISH
X-ORIGINAL-URL:https://tve-algermissen.de
X-WR-CALDESC:Veranstaltungen für TV Eintracht Algermissen
REFRESH-INTERVAL;VALUE=DURATION:PT1H
X-Robots-Tag:noindex
X-PUBLISHED-TTL:PT1H
BEGIN:VTIMEZONE
TZID:Europe/Berlin
BEGIN:DAYLIGHT
TZOFFSETFROM:+0100
TZOFFSETTO:+0200
TZNAME:CEST
DTSTART:20210328T010000
END:DAYLIGHT
BEGIN:STANDARD
TZOFFSETFROM:+0200
TZOFFSETTO:+0100
TZNAME:CET
DTSTART:20211031T010000
END:STANDARD
BEGIN:DAYLIGHT
TZOFFSETFROM:+0100
TZOFFSETTO:+0200
TZNAME:CEST
DTSTART:20220327T010000
END:DAYLIGHT
BEGIN:STANDARD
TZOFFSETFROM:+0200
TZOFFSETTO:+0100
TZNAME:CET
DTSTART:20221030T010000
END:STANDARD
BEGIN:DAYLIGHT
TZOFFSETFROM:+0100
TZOFFSETTO:+0200
TZNAME:CEST
DTSTART:20230326T010000
END:DAYLIGHT
BEGIN:STANDARD
TZOFFSETFROM:+0200
TZOFFSETTO:+0100
TZNAME:CET
DTSTART:20231029T010000
END:STANDARD
END:VTIMEZONE
BEGIN:VEVENT
DTSTART;TZID=Europe/Berlin:20220503T190000
DTEND;TZID=Europe/Berlin:20220503T190000
DTSTAMP:20260421T191550
CREATED:20220402T191955Z
LAST-MODIFIED:20220402T191955Z
UID:14937-1651604400-1651604400@tve-algermissen.de
SUMMARY:Abteilungsversammlung Gymnastik
DESCRIPTION:Abteilungsversammlung Gymnastik am 03.05.2022 um 19 Uhr Mehrzweckraum Sporthalle Ostpreußenstraße. Kostenbeteiligung 3 Euro an den Getränken für den ganzen Abend.
URL:https://tve-algermissen.de/event/abteilungsversammlung-gymnastik-4/
END:VEVENT
BEGIN:VEVENT
DTSTART;TZID=Europe/Berlin:20220509T183000
DTEND;TZID=Europe/Berlin:20220509T183000
DTSTAMP:20260421T191550
CREATED:20220418T194736Z
LAST-MODIFIED:20220418T194736Z
UID:14986-1652121000-1652121000@tve-algermissen.de
SUMMARY:Abteilungsversammlung Leichtathletik
DESCRIPTION:
URL:https://tve-algermissen.de/event/abteilungsversammlung-leichtathletik-2/
END:VEVENT
BEGIN:VEVENT
DTSTART;TZID=Europe/Berlin:20220513T190000
DTEND;TZID=Europe/Berlin:20220513T190000
DTSTAMP:20260421T191550
CREATED:20220406T194322Z
LAST-MODIFIED:20220406T194322Z
UID:14973-1652468400-1652468400@tve-algermissen.de
SUMMARY:Abteilungsversammlung Handball
DESCRIPTION:
URL:https://tve-algermissen.de/event/abteilungsversammlung-handball-4/
END:VEVENT
BEGIN:VEVENT
DTSTART;TZID=Europe/Berlin:20220520T190000
DTEND;TZID=Europe/Berlin:20220520T190000
DTSTAMP:20260421T191550
CREATED:20220424T190932Z
LAST-MODIFIED:20220424T190932Z
UID:14990-1653073200-1653073200@tve-algermissen.de
SUMMARY:ÜL-Treffen
DESCRIPTION:
URL:https://tve-algermissen.de/event/uel-treffen/
END:VEVENT
BEGIN:VEVENT
DTSTART;VALUE=DATE:20220523
DTEND;VALUE=DATE:20220613
DTSTAMP:20260421T191550
CREATED:20220222T152321Z
LAST-MODIFIED:20220222T152321Z
UID:14789-1653264000-1655078399@tve-algermissen.de
SUMMARY:Stadtradeln
DESCRIPTION:
URL:https://tve-algermissen.de/event/stadtradeln-3/
END:VEVENT
BEGIN:VEVENT
DTSTART;TZID=Europe/Berlin:20220527T180000
DTEND;TZID=Europe/Berlin:20220527T180000
DTSTAMP:20260421T191550
CREATED:20220426T204714Z
LAST-MODIFIED:20220426T204714Z
UID:14996-1653674400-1653674400@tve-algermissen.de
SUMMARY:Abteilungsversammlung Faustball
DESCRIPTION:
URL:https://tve-algermissen.de/event/abteilungsversammlung-faustball-3/
END:VEVENT
END:VCALENDAR