BEGIN:VCALENDAR
VERSION:2.0
PRODID:-//TV Eintracht Algermissen - ECPv6.15.13//NONSGML v1.0//EN
CALSCALE:GREGORIAN
METHOD:PUBLISH
X-ORIGINAL-URL:https://tve-algermissen.de
X-WR-CALDESC:Veranstaltungen für TV Eintracht Algermissen
REFRESH-INTERVAL;VALUE=DURATION:PT1H
X-Robots-Tag:noindex
X-PUBLISHED-TTL:PT1H
BEGIN:VTIMEZONE
TZID:Europe/Berlin
BEGIN:DAYLIGHT
TZOFFSETFROM:+0100
TZOFFSETTO:+0200
TZNAME:CEST
DTSTART:20210328T010000
END:DAYLIGHT
BEGIN:STANDARD
TZOFFSETFROM:+0200
TZOFFSETTO:+0100
TZNAME:CET
DTSTART:20211031T010000
END:STANDARD
BEGIN:DAYLIGHT
TZOFFSETFROM:+0100
TZOFFSETTO:+0200
TZNAME:CEST
DTSTART:20220327T010000
END:DAYLIGHT
BEGIN:STANDARD
TZOFFSETFROM:+0200
TZOFFSETTO:+0100
TZNAME:CET
DTSTART:20221030T010000
END:STANDARD
BEGIN:DAYLIGHT
TZOFFSETFROM:+0100
TZOFFSETTO:+0200
TZNAME:CEST
DTSTART:20230326T010000
END:DAYLIGHT
BEGIN:STANDARD
TZOFFSETFROM:+0200
TZOFFSETTO:+0100
TZNAME:CET
DTSTART:20231029T010000
END:STANDARD
END:VTIMEZONE
BEGIN:VEVENT
DTSTART;VALUE=DATE:20220909
DTEND;VALUE=DATE:20220918
DTSTAMP:20260421T133806
CREATED:20220821T182750Z
LAST-MODIFIED:20220821T182750Z
UID:15333-1662681600-1663459199@tve-algermissen.de
SUMMARY:Mixed Cup
DESCRIPTION:“Opening” am 10.09. \ngespielt wird: Samstags und Sonntags ab 09:00 Uhr und Wochentags ab 17:00 Uhr.
URL:https://tve-algermissen.de/event/mixed-cup/
END:VEVENT
END:VCALENDAR